BEGIN:VCALENDAR
VERSION:2.0
PRODID:-//Dillinger Staffing//Weekly Ship//EN
CALSCALE:GREGORIAN
METHOD:PUBLISH
BEGIN:VEVENT
UID:ship-002@dillinger-staffing.pages.dev
DTSTAMP:20260419T124741Z
DTSTART:20260317T223000Z
DTEND:20260318T000000Z
SUMMARY:SHIP 002 (OpenClaw)
DESCRIPTION:Model selection and observability tooling.\n\nDemos on model ev
 aluation\, logging infrastructure\, and emerging builder tools.\n\nhttps:/
 /dillinger-staffing.pages.dev/labs/weekly-ship/event/ship-002
URL:https://dillinger-staffing.pages.dev/labs/weekly-ship/event/ship-002
LOCATION:Online
STATUS:CONFIRMED
TRANSP:OPAQUE
BEGIN:VALARM
ACTION:DISPLAY
DESCRIPTION:SHIP 002 (OpenClaw)
TRIGGER:-PT15M
END:VALARM
END:VEVENT
END:VCALENDAR
